BEGIN:VCALENDAR
VERSION:2.0
PRODID:-// - ECPv6.15.20//NONSGML v1.0//EN
CALSCALE:GREGORIAN
METHOD:PUBLISH
X-ORIGINAL-URL:https://www.hughsonchristianschool.com
X-WR-CALDESC:Events for 
REFRESH-INTERVAL;VALUE=DURATION:PT1H
X-Robots-Tag:noindex
X-PUBLISHED-TTL:PT1H
BEGIN:VTIMEZONE
TZID:America/Los_Angeles
BEGIN:DAYLIGHT
TZOFFSETFROM:-0800
TZOFFSETTO:-0700
TZNAME:PDT
DTSTART:20240310T100000
END:DAYLIGHT
BEGIN:STANDARD
TZOFFSETFROM:-0700
TZOFFSETTO:-0800
TZNAME:PST
DTSTART:20241103T090000
END:STANDARD
BEGIN:DAYLIGHT
TZOFFSETFROM:-0800
TZOFFSETTO:-0700
TZNAME:PDT
DTSTART:20250309T100000
END:DAYLIGHT
BEGIN:STANDARD
TZOFFSETFROM:-0700
TZOFFSETTO:-0800
TZNAME:PST
DTSTART:20251102T090000
END:STANDARD
BEGIN:DAYLIGHT
TZOFFSETFROM:-0800
TZOFFSETTO:-0700
TZNAME:PDT
DTSTART:20260308T100000
END:DAYLIGHT
BEGIN:STANDARD
TZOFFSETFROM:-0700
TZOFFSETTO:-0800
TZNAME:PST
DTSTART:20261101T090000
END:STANDARD
END:VTIMEZONE
BEGIN:VEVENT
DTSTART;TZID=America/Los_Angeles:20251101T173000
DTEND;TZID=America/Los_Angeles:20251101T200000
DTSTAMP:20260423T162907
CREATED:20250729T173428Z
LAST-MODIFIED:20251027T154133Z
UID:3708-1762018200-1762027200@www.hughsonchristianschool.com
SUMMARY:Harvest Moon Banquet & Auction
DESCRIPTION:
URL:https://www.hughsonchristianschool.com/event/harvest-moon-banquet-auction/
END:VEVENT
BEGIN:VEVENT
DTSTART;TZID=America/Los_Angeles:20251110T080000
DTEND;TZID=America/Los_Angeles:20251110T170000
DTSTAMP:20260423T162907
CREATED:20250729T173729Z
LAST-MODIFIED:20250729T173736Z
UID:3710-1762761600-1762794000@www.hughsonchristianschool.com
SUMMARY:No School - Veteran's Day
DESCRIPTION:
URL:https://www.hughsonchristianschool.com/event/no-school-veterans-day/
END:VEVENT
BEGIN:VEVENT
DTSTART;TZID=America/Los_Angeles:20251111T080000
DTEND;TZID=America/Los_Angeles:20251111T170000
DTSTAMP:20260423T162907
CREATED:20250729T173808Z
LAST-MODIFIED:20250729T173815Z
UID:3712-1762848000-1762880400@www.hughsonchristianschool.com
SUMMARY:No School - Veteran's Day
DESCRIPTION:
URL:https://www.hughsonchristianschool.com/event/no-school-veterans-day-2/
END:VEVENT
BEGIN:VEVENT
DTSTART;TZID=America/Los_Angeles:20251121T080000
DTEND;TZID=America/Los_Angeles:20251121T170000
DTSTAMP:20260423T162907
CREATED:20250729T173856Z
LAST-MODIFIED:20250729T173902Z
UID:3714-1763712000-1763744400@www.hughsonchristianschool.com
SUMMARY:Minimum Day - Free Dress
DESCRIPTION:
URL:https://www.hughsonchristianschool.com/event/minimum-day-free-dress/
END:VEVENT
BEGIN:VEVENT
DTSTART;TZID=America/Los_Angeles:20251124T000000
DTEND;TZID=America/Los_Angeles:20251128T235959
DTSTAMP:20260423T162907
CREATED:20250729T174010Z
LAST-MODIFIED:20250729T174017Z
UID:3716-1763942400-1764374399@www.hughsonchristianschool.com
SUMMARY:No School - Thanksgiving Break
DESCRIPTION:
URL:https://www.hughsonchristianschool.com/event/no-school-thanksgiving-break/
END:VEVENT
END:VCALENDAR