BEGIN:VCALENDAR
VERSION:2.0
PRODID:-// - ECPv6.15.20//NONSGML v1.0//EN
CALSCALE:GREGORIAN
METHOD:PUBLISH
X-ORIGINAL-URL:https://www.hughsonchristianschool.com
X-WR-CALDESC:Events for 
REFRESH-INTERVAL;VALUE=DURATION:PT1H
X-Robots-Tag:noindex
X-PUBLISHED-TTL:PT1H
BEGIN:VTIMEZONE
TZID:America/Los_Angeles
BEGIN:DAYLIGHT
TZOFFSETFROM:-0800
TZOFFSETTO:-0700
TZNAME:PDT
DTSTART:20240310T100000
END:DAYLIGHT
BEGIN:STANDARD
TZOFFSETFROM:-0700
TZOFFSETTO:-0800
TZNAME:PST
DTSTART:20241103T090000
END:STANDARD
BEGIN:DAYLIGHT
TZOFFSETFROM:-0800
TZOFFSETTO:-0700
TZNAME:PDT
DTSTART:20250309T100000
END:DAYLIGHT
BEGIN:STANDARD
TZOFFSETFROM:-0700
TZOFFSETTO:-0800
TZNAME:PST
DTSTART:20251102T090000
END:STANDARD
BEGIN:DAYLIGHT
TZOFFSETFROM:-0800
TZOFFSETTO:-0700
TZNAME:PDT
DTSTART:20260308T100000
END:DAYLIGHT
BEGIN:STANDARD
TZOFFSETFROM:-0700
TZOFFSETTO:-0800
TZNAME:PST
DTSTART:20261101T090000
END:STANDARD
END:VTIMEZONE
BEGIN:VEVENT
DTSTART;TZID=America/Los_Angeles:20251218T180000
DTEND;TZID=America/Los_Angeles:20251218T200000
DTSTAMP:20260423T125938
CREATED:20251107T211503Z
LAST-MODIFIED:20251107T211509Z
UID:4352-1766080800-1766088000@www.hughsonchristianschool.com
SUMMARY:Christmas Program
DESCRIPTION:Talent Show type Christmas program for the whole student body. Each family will be given two free tickets. Additional tickets can be purchased for $5 a piece. The Book Fair will also be available to do some Christmas shopping.
URL:https://www.hughsonchristianschool.com/event/christmas-program/
END:VEVENT
BEGIN:VEVENT
DTSTART;TZID=America/Los_Angeles:20251124T000000
DTEND;TZID=America/Los_Angeles:20251128T235959
DTSTAMP:20260423T125938
CREATED:20250729T174010Z
LAST-MODIFIED:20250729T174017Z
UID:3716-1763942400-1764374399@www.hughsonchristianschool.com
SUMMARY:No School - Thanksgiving Break
DESCRIPTION:
URL:https://www.hughsonchristianschool.com/event/no-school-thanksgiving-break/
END:VEVENT
BEGIN:VEVENT
DTSTART;TZID=America/Los_Angeles:20251121T080000
DTEND;TZID=America/Los_Angeles:20251121T170000
DTSTAMP:20260423T125938
CREATED:20250729T173856Z
LAST-MODIFIED:20250729T173902Z
UID:3714-1763712000-1763744400@www.hughsonchristianschool.com
SUMMARY:Minimum Day - Free Dress
DESCRIPTION:
URL:https://www.hughsonchristianschool.com/event/minimum-day-free-dress/
END:VEVENT
BEGIN:VEVENT
DTSTART;TZID=America/Los_Angeles:20251111T080000
DTEND;TZID=America/Los_Angeles:20251111T170000
DTSTAMP:20260423T125938
CREATED:20250729T173808Z
LAST-MODIFIED:20250729T173815Z
UID:3712-1762848000-1762880400@www.hughsonchristianschool.com
SUMMARY:No School - Veteran's Day
DESCRIPTION:
URL:https://www.hughsonchristianschool.com/event/no-school-veterans-day-2/
END:VEVENT
BEGIN:VEVENT
DTSTART;TZID=America/Los_Angeles:20251110T080000
DTEND;TZID=America/Los_Angeles:20251110T170000
DTSTAMP:20260423T125938
CREATED:20250729T173729Z
LAST-MODIFIED:20250729T173736Z
UID:3710-1762761600-1762794000@www.hughsonchristianschool.com
SUMMARY:No School - Veteran's Day
DESCRIPTION:
URL:https://www.hughsonchristianschool.com/event/no-school-veterans-day/
END:VEVENT
BEGIN:VEVENT
DTSTART;TZID=America/Los_Angeles:20251101T173000
DTEND;TZID=America/Los_Angeles:20251101T200000
DTSTAMP:20260423T125938
CREATED:20250729T173428Z
LAST-MODIFIED:20251027T154133Z
UID:3708-1762018200-1762027200@www.hughsonchristianschool.com
SUMMARY:Harvest Moon Banquet & Auction
DESCRIPTION:
URL:https://www.hughsonchristianschool.com/event/harvest-moon-banquet-auction/
END:VEVENT
BEGIN:VEVENT
DTSTART;TZID=America/Los_Angeles:20251017T080000
DTEND;TZID=America/Los_Angeles:20251017T170000
DTSTAMP:20260423T125938
CREATED:20250729T173303Z
LAST-MODIFIED:20250729T173309Z
UID:3706-1760688000-1760720400@www.hughsonchristianschool.com
SUMMARY:Homecoming (Tentative)
DESCRIPTION:
URL:https://www.hughsonchristianschool.com/event/homecoming-tentative/
END:VEVENT
BEGIN:VEVENT
DTSTART;TZID=America/Los_Angeles:20251010T080000
DTEND;TZID=America/Los_Angeles:20251010T170000
DTSTAMP:20260423T125938
CREATED:20250729T173145Z
LAST-MODIFIED:20250729T173151Z
UID:3704-1760083200-1760115600@www.hughsonchristianschool.com
SUMMARY:End of 1st Quarter
DESCRIPTION:
URL:https://www.hughsonchristianschool.com/event/end-of-1st-quarter-2/
END:VEVENT
BEGIN:VEVENT
DTSTART;TZID=America/Los_Angeles:20250901T080000
DTEND;TZID=America/Los_Angeles:20250901T170000
DTSTAMP:20260423T125938
CREATED:20250729T173041Z
LAST-MODIFIED:20250729T173047Z
UID:3702-1756713600-1756746000@www.hughsonchristianschool.com
SUMMARY:No School - Labor Day
DESCRIPTION:
URL:https://www.hughsonchristianschool.com/event/no-school-labor-day/
END:VEVENT
BEGIN:VEVENT
DTSTART;TZID=America/Los_Angeles:20250808T180000
DTEND;TZID=America/Los_Angeles:20250808T200000
DTSTAMP:20260423T125938
CREATED:20250729T172941Z
LAST-MODIFIED:20250729T172947Z
UID:3700-1754676000-1754683200@www.hughsonchristianschool.com
SUMMARY:Back to School Night
DESCRIPTION:
URL:https://www.hughsonchristianschool.com/event/back-to-school-night-2/
END:VEVENT
BEGIN:VEVENT
DTSTART;TZID=America/Los_Angeles:20250807T080000
DTEND;TZID=America/Los_Angeles:20250807T153000
DTSTAMP:20260423T125938
CREATED:20250729T172712Z
LAST-MODIFIED:20250729T172743Z
UID:3697-1754553600-1754580600@www.hughsonchristianschool.com
SUMMARY:First Day of School 2025
DESCRIPTION:
URL:https://www.hughsonchristianschool.com/event/first-day-of-school/
END:VEVENT
BEGIN:VEVENT
DTSTART;TZID=America/Los_Angeles:20250523T103000
DTEND;TZID=America/Los_Angeles:20250523T113000
DTSTAMP:20260423T125938
CREATED:20240726T010201Z
LAST-MODIFIED:20240726T010201Z
UID:2505-1747996200-1747999800@www.hughsonchristianschool.com
SUMMARY:Kindergarten Graduation
DESCRIPTION:
URL:https://www.hughsonchristianschool.com/event/kindergarten-graduation-2/
END:VEVENT
BEGIN:VEVENT
DTSTART;TZID=America/Los_Angeles:20250523T080000
DTEND;TZID=America/Los_Angeles:20250523T120000
DTSTAMP:20260423T125938
CREATED:20240726T005941Z
LAST-MODIFIED:20240726T005941Z
UID:2503-1747987200-1748001600@www.hughsonchristianschool.com
SUMMARY:Last Day of School- Minimum Day
DESCRIPTION:
URL:https://www.hughsonchristianschool.com/event/last-day-of-school-minimum-day-2/
END:VEVENT
BEGIN:VEVENT
DTSTART;TZID=America/Los_Angeles:20250516T120000
DTEND;TZID=America/Los_Angeles:20250516T150000
DTSTAMP:20260423T125938
CREATED:20240726T005748Z
LAST-MODIFIED:20240726T005748Z
UID:2501-1747396800-1747407600@www.hughsonchristianschool.com
SUMMARY:Fun Run
DESCRIPTION:
URL:https://www.hughsonchristianschool.com/event/fun-run-2/
END:VEVENT
BEGIN:VEVENT
DTSTART;TZID=America/Los_Angeles:20250516T080000
DTEND;TZID=America/Los_Angeles:20250516T170000
DTSTAMP:20260423T125938
CREATED:20240726T005620Z
LAST-MODIFIED:20240726T005620Z
UID:2499-1747382400-1747414800@www.hughsonchristianschool.com
SUMMARY:End of 4th Quarter
DESCRIPTION:
URL:https://www.hughsonchristianschool.com/event/end-of-4th-quarter-2/
END:VEVENT
BEGIN:VEVENT
DTSTART;TZID=America/Los_Angeles:20250502T080000
DTEND;TZID=America/Los_Angeles:20250502T170000
DTSTAMP:20260423T125938
CREATED:20240726T235139Z
LAST-MODIFIED:20240726T235139Z
UID:2523-1746172800-1746205200@www.hughsonchristianschool.com
SUMMARY:Spirit Day: Tie Dye
DESCRIPTION:
URL:https://www.hughsonchristianschool.com/event/spirit-day-tie-dye/
END:VEVENT
BEGIN:VEVENT
DTSTART;TZID=America/Los_Angeles:20250421T080000
DTEND;TZID=America/Los_Angeles:20250425T170000
DTSTAMP:20260423T125938
CREATED:20240726T005415Z
LAST-MODIFIED:20240726T005415Z
UID:2497-1745222400-1745600400@www.hughsonchristianschool.com
SUMMARY:Easter Break- No School
DESCRIPTION:
URL:https://www.hughsonchristianschool.com/event/easter-break-no-school/
END:VEVENT
END:VCALENDAR