BEGIN:VCALENDAR
VERSION:2.0
PRODID:-// - ECPv6.15.20//NONSGML v1.0//EN
CALSCALE:GREGORIAN
METHOD:PUBLISH
X-ORIGINAL-URL:https://www.hughsonchristianschool.com
X-WR-CALDESC:Events for 
REFRESH-INTERVAL;VALUE=DURATION:PT1H
X-Robots-Tag:noindex
X-PUBLISHED-TTL:PT1H
BEGIN:VTIMEZONE
TZID:America/Los_Angeles
BEGIN:DAYLIGHT
TZOFFSETFROM:-0800
TZOFFSETTO:-0700
TZNAME:PDT
DTSTART:20250309T100000
END:DAYLIGHT
BEGIN:STANDARD
TZOFFSETFROM:-0700
TZOFFSETTO:-0800
TZNAME:PST
DTSTART:20251102T090000
END:STANDARD
BEGIN:DAYLIGHT
TZOFFSETFROM:-0800
TZOFFSETTO:-0700
TZNAME:PDT
DTSTART:20260308T100000
END:DAYLIGHT
BEGIN:STANDARD
TZOFFSETFROM:-0700
TZOFFSETTO:-0800
TZNAME:PST
DTSTART:20261101T090000
END:STANDARD
BEGIN:DAYLIGHT
TZOFFSETFROM:-0800
TZOFFSETTO:-0700
TZNAME:PDT
DTSTART:20270314T100000
END:DAYLIGHT
BEGIN:STANDARD
TZOFFSETFROM:-0700
TZOFFSETTO:-0800
TZNAME:PST
DTSTART:20271107T090000
END:STANDARD
END:VTIMEZONE
BEGIN:VEVENT
DTSTART;TZID=America/Los_Angeles:20260521T080000
DTEND;TZID=America/Los_Angeles:20260521T170000
DTSTAMP:20260423T161111
CREATED:20250729T175403Z
LAST-MODIFIED:20250729T175410Z
UID:3742-1779350400-1779382800@www.hughsonchristianschool.com
SUMMARY:!!! WATER DAY !!!
DESCRIPTION:
URL:https://www.hughsonchristianschool.com/event/water-day/
END:VEVENT
BEGIN:VEVENT
DTSTART;TZID=America/Los_Angeles:20260521T180000
DTEND;TZID=America/Los_Angeles:20260521T180000
DTSTAMP:20260423T161111
CREATED:20250729T175506Z
LAST-MODIFIED:20250729T175511Z
UID:3744-1779386400-1779386400@www.hughsonchristianschool.com
SUMMARY:8th Grade Graduation
DESCRIPTION:
URL:https://www.hughsonchristianschool.com/event/8th-grade-graduation/
END:VEVENT
BEGIN:VEVENT
DTSTART;TZID=America/Los_Angeles:20260522T080000
DTEND;TZID=America/Los_Angeles:20260522T120000
DTSTAMP:20260423T161111
CREATED:20250729T180155Z
LAST-MODIFIED:20260312T212516Z
UID:3748-1779436800-1779451200@www.hughsonchristianschool.com
SUMMARY:Last Day of School - Minimum Day
DESCRIPTION:
URL:https://www.hughsonchristianschool.com/event/last-day-of-school-minimum-day/
END:VEVENT
BEGIN:VEVENT
DTSTART;TZID=America/Los_Angeles:20260522T100000
DTEND;TZID=America/Los_Angeles:20260522T100000
DTSTAMP:20260423T161111
CREATED:20250729T175606Z
LAST-MODIFIED:20250729T180038Z
UID:3746-1779444000-1779444000@www.hughsonchristianschool.com
SUMMARY:Kindergarten Graduation
DESCRIPTION:
URL:https://www.hughsonchristianschool.com/event/kindergarten-graduation/
END:VEVENT
END:VCALENDAR